Package: ncRNAtools Version: 1.19.0 Command: /home/biocbuild/bbs-3.22-bioc/R/bin/R CMD INSTALL ncRNAtools StartedAt: 2025-10-16 16:20:28 -0400 (Thu, 16 Oct 2025) EndedAt: 2025-10-16 16:20:40 -0400 (Thu, 16 Oct 2025) EllapsedTime: 12.3 seconds RetCode: 0 Status: OK