Package: ncdfFlow Version: 2.55.0 Command: /home/biocbuild/bbs-3.22-bioc/R/bin/R CMD INSTALL ncdfFlow StartedAt: 2025-10-10 15:25:58 -0400 (Fri, 10 Oct 2025) EndedAt: 2025-10-10 15:26:11 -0400 (Fri, 10 Oct 2025) EllapsedTime: 12.8 seconds RetCode: 0 Status: OK