Package: ndexr Version: 1.31.0 Command: /home/biocbuild/bbs-3.22-bioc/R/bin/R CMD INSTALL ndexr StartedAt: 2025-10-19 15:09:48 -0400 (Sun, 19 Oct 2025) EndedAt: 2025-10-19 15:09:50 -0400 (Sun, 19 Oct 2025) EllapsedTime: 2.5 seconds RetCode: 0 Status: OK