Package: netboost Version: 2.17.0 Command: rm -rf netboost.buildbin-libdir && mkdir netboost.buildbin-libdir && /Users/biocbuild/BBS/utils/build-universal.sh netboost_2.17.0.tar.gz /Library/Frameworks/R.framework/Resources/bin/R netboost.buildbin-libdir StartedAt: 2025-10-14 23:31:10 -0400 (Tue, 14 Oct 2025) EndedAt: 2025-10-14 23:31:31 -0400 (Tue, 14 Oct 2025) EllapsedTime: 20.4 seconds RetCode: 0 Status: OK PackageFile: netboost_2.17.0.tgz PackageFileSize: 1.116 MiB