Package: netboost Version: 2.17.0 Command: /Library/Frameworks/R.framework/Resources/bin/R CMD build --keep-empty-dirs --no-resave-data netboost StartedAt: 2025-10-13 17:13:15 -0400 (Mon, 13 Oct 2025) EndedAt: 2025-10-13 17:13:38 -0400 (Mon, 13 Oct 2025) EllapsedTime: 23.3 seconds RetCode: 0 Status: OK PackageFile: netboost_2.17.0.tar.gz PackageFileSize: 1.133 MiB