Package: netboost Version: 2.17.0 Command: /Library/Frameworks/R.framework/Resources/bin/R CMD INSTALL netboost StartedAt: 2025-10-14 15:24:14 -0400 (Tue, 14 Oct 2025) EndedAt: 2025-10-14 15:24:31 -0400 (Tue, 14 Oct 2025) EllapsedTime: 17.9 seconds RetCode: 0 Status: OK