Package: netboost Version: 2.19.0 Command: /Library/Frameworks/R.framework/Resources/bin/R CMD build --keep-empty-dirs --no-resave-data netboost StartedAt: 2025-11-17 18:10:09 -0500 (Mon, 17 Nov 2025) EndedAt: 2025-11-17 18:11:40 -0500 (Mon, 17 Nov 2025) EllapsedTime: 91.5 seconds RetCode: 0 Status: OK PackageFile: netboost_2.19.0.tar.gz PackageFileSize: 1.133 MiB