Package: netboost Version: 2.19.0 Command: /Library/Frameworks/R.framework/Resources/bin/R CMD INSTALL netboost StartedAt: 2025-11-18 15:43:19 -0500 (Tue, 18 Nov 2025) EndedAt: 2025-11-18 15:44:41 -0500 (Tue, 18 Nov 2025) EllapsedTime: 81.8 seconds RetCode: 0 Status: OK