Package: netboost Version: 2.19.0 Command: /home/biocbuild/bbs-3.23-bioc/R/bin/R CMD INSTALL netboost StartedAt: 2025-11-16 15:46:30 -0500 (Sun, 16 Nov 2025) EndedAt: 2025-11-16 15:47:17 -0500 (Sun, 16 Nov 2025) EllapsedTime: 46.2 seconds RetCode: 0 Status: OK