Package: netresponse Version: 1.69.0 Command: /home/biocbuild/bbs-3.22-bioc/R/bin/R CMD build --keep-empty-dirs --no-resave-data --md5 netresponse StartedAt: 2025-10-13 19:05:59 -0400 (Mon, 13 Oct 2025) EndedAt: 2025-10-13 19:06:13 -0400 (Mon, 13 Oct 2025) EllapsedTime: 14.0 seconds RetCode: 0 Status: OK PackageFile: netresponse_1.69.0.tar.gz PackageFileSize: 981.2 KiB