Package: netresponse Version: 1.69.0 Command: /home/biocbuild/bbs-3.22-bioc/R/bin/R CMD INSTALL netresponse StartedAt: 2025-10-13 15:17:26 -0400 (Mon, 13 Oct 2025) EndedAt: 2025-10-13 15:17:36 -0400 (Mon, 13 Oct 2025) EllapsedTime: 10.1 seconds RetCode: 0 Status: OK