Package: nipalsMCIA Version: 1.9.0 Command: /home/biocbuild/bbs-3.23-bioc/R/bin/R CMD INSTALL nipalsMCIA StartedAt: 2025-11-06 15:19:43 -0500 (Thu, 06 Nov 2025) EndedAt: 2025-11-06 15:20:09 -0500 (Thu, 06 Nov 2025) EllapsedTime: 26.6 seconds RetCode: 0 Status: OK