Package: omicplotR Version: 1.31.0 Command: /home/biocbuild/bbs-3.23-bioc/R/bin/R CMD INSTALL omicplotR StartedAt: 2025-11-19 15:39:25 -0500 (Wed, 19 Nov 2025) EndedAt: 2025-11-19 15:39:49 -0500 (Wed, 19 Nov 2025) EllapsedTime: 23.3 seconds RetCode: 0 Status: OK