Package: omicsViewer Version: 1.13.0 Command: /home/biocbuild/bbs-3.22-bioc/R/bin/R CMD build --keep-empty-dirs --no-resave-data --md5 omicsViewer StartedAt: 2025-10-08 19:29:00 -0400 (Wed, 08 Oct 2025) EndedAt: 2025-10-08 19:29:57 -0400 (Wed, 08 Oct 2025) EllapsedTime: 57.0 seconds RetCode: 0 Status: OK PackageFile: omicsViewer_1.13.0.tar.gz PackageFileSize: 4.328 MiB