Package: omicsViewer Version: 1.13.0 Command: /home/biocbuild/bbs-3.22-bioc/R/bin/R CMD INSTALL omicsViewer StartedAt: 2025-10-08 15:36:31 -0400 (Wed, 08 Oct 2025) EndedAt: 2025-10-08 15:37:05 -0400 (Wed, 08 Oct 2025) EllapsedTime: 34.4 seconds RetCode: 0 Status: OK