Package: pRoloc Version: 1.49.2 Command: /home/biocbuild/bbs-3.22-bioc/R/bin/R CMD build --keep-empty-dirs --no-resave-data --md5 pRoloc StartedAt: 2025-10-21 19:23:50 -0400 (Tue, 21 Oct 2025) EndedAt: 2025-10-21 19:27:41 -0400 (Tue, 21 Oct 2025) EllapsedTime: 231.2 seconds RetCode: 0 Status: OK PackageFile: pRoloc_1.49.2.tar.gz PackageFileSize: 10.81 MiB