Package: pRolocGUI Version: 2.19.0 Command: /home/biocbuild/bbs-3.22-bioc/R/bin/R CMD build --keep-empty-dirs --no-resave-data --md5 pRolocGUI StartedAt: 2025-10-16 20:26:41 -0400 (Thu, 16 Oct 2025) EndedAt: 2025-10-16 20:27:52 -0400 (Thu, 16 Oct 2025) EllapsedTime: 71.1 seconds RetCode: 0 Status: OK PackageFile: pRolocGUI_2.19.0.tar.gz PackageFileSize: 2.992 MiB