Package: pRolocGUI Version: 2.19.0 Command: /home/biocbuild/bbs-3.22-bioc/R/bin/R CMD INSTALL pRolocGUI StartedAt: 2025-10-16 16:43:32 -0400 (Thu, 16 Oct 2025) EndedAt: 2025-10-16 16:44:26 -0400 (Thu, 16 Oct 2025) EllapsedTime: 53.8 seconds RetCode: 0 Status: OK