Package: pathRender Version: 1.77.0 Command: /home/biocbuild/bbs-3.22-bioc/R/bin/R CMD INSTALL pathRender StartedAt: 2025-10-10 15:38:38 -0400 (Fri, 10 Oct 2025) EndedAt: 2025-10-10 15:38:52 -0400 (Fri, 10 Oct 2025) EllapsedTime: 13.4 seconds RetCode: 0 Status: OK