Package: pcaExplorer Version: 3.3.0 Command: /home/biocbuild/bbs-3.22-bioc/R/bin/R CMD INSTALL pcaExplorer StartedAt: 2025-10-08 16:06:00 -0400 (Wed, 08 Oct 2025) EndedAt: 2025-10-08 16:07:15 -0400 (Wed, 08 Oct 2025) EllapsedTime: 74.2 seconds RetCode: 0 Status: OK