Package: pcaMethods Version: 2.1.0 Command: /Library/Frameworks/R.framework/Resources/bin/R CMD build --keep-empty-dirs --no-resave-data pcaMethods StartedAt: 2025-10-22 17:20:24 -0400 (Wed, 22 Oct 2025) EndedAt: 2025-10-22 17:21:12 -0400 (Wed, 22 Oct 2025) EllapsedTime: 48.5 seconds RetCode: 0 Status: OK PackageFile: pcaMethods_2.1.0.tar.gz PackageFileSize: 1017 KiB