Package: pcaMethods Version: 2.3.0 Command: /home/biocbuild/bbs-3.23-bioc/R/bin/R CMD build --keep-empty-dirs --no-resave-data pcaMethods StartedAt: 2025-11-14 19:12:56 -0500 (Fri, 14 Nov 2025) EndedAt: 2025-11-14 19:14:39 -0500 (Fri, 14 Nov 2025) EllapsedTime: 103.1 seconds RetCode: 0 Status: OK PackageFile: pcaMethods_2.3.0.tar.gz PackageFileSize: 1017 KiB