Package: pcaMethods Version: 2.3.0 Command: /home/biocbuild/bbs-3.23-bioc/R/bin/R CMD INSTALL pcaMethods StartedAt: 2025-11-14 15:13:30 -0500 (Fri, 14 Nov 2025) EndedAt: 2025-11-14 15:13:44 -0500 (Fri, 14 Nov 2025) EllapsedTime: 14.0 seconds RetCode: 0 Status: OK