Package: pcaMethods Version: 2.1.0 Command: /home/biocbuild/bbs-3.22-bioc/R/bin/R CMD INSTALL pcaMethods StartedAt: 2025-07-21 15:18:39 -0400 (Mon, 21 Jul 2025) EndedAt: 2025-07-21 15:18:52 -0400 (Mon, 21 Jul 2025) EllapsedTime: 13.5 seconds RetCode: 0 Status: OK