Back to Build/check report for BioC 3.23:   simplified   long
ABCDEFGHIJKLMNO[P]QRSTUVWXYZ

This page was generated on 2025-10-31 08:34 -0400 (Fri, 31 Oct 2025).

HostnameOSArch (*)R versionInstalled pkgs
nebbiolo1Linux (Ubuntu 24.04.3 LTS)x86_64R Under development (unstable) (2025-10-20 r88955) -- "Unsuffered Consequences" 4428
Click on any hostname to see more info about the system (e.g. compilers)      (*) as reported by 'uname -p', except on Windows and Mac OS X

All results for package phyloseq


To the developers/maintainers of the phyloseq package:
- Allow up to 24 hours (and sometimes 48 hours) for your latest push to git@git.bioconductor.org:packages/phyloseq.git to reflect on this report. See Troubleshooting Build Report for more information.
- Use the following Renviron settings to reproduce errors and warnings.
- If 'R CMD check' started to fail recently on the Linux builder(s) over a missing dependency, add the missing dependency to 'Suggests:' in your DESCRIPTION file. See Renviron.bioc for more information.

raw results

Package 1572/2321HostnameOS / ArchINSTALLBUILDCHECKBUILD BIN
phyloseq 1.55.0  (landing page)
Paul J. McMurdie
Snapshot Date: 2025-10-30 13:40 -0400 (Thu, 30 Oct 2025)
git_url: https://git.bioconductor.org/packages/phyloseq
git_branch: devel
git_last_commit: 3b97933
git_last_commit_date: 2025-10-29 10:10:12 -0400 (Wed, 29 Oct 2025)
nebbiolo1Linux (Ubuntu 24.04.3 LTS) / x86_64  OK    OK    WARNINGS  NO, package depends on 'Biostrings' which is not available



Results for Bioconductor software packages that depend directly on package phyloseq

QUICK STATSOS / ArchINSTALLBUILDCHECKBUILD BIN
nebbiolo1Linux (Ubuntu 24.04.3 LTS) / x86_64
0017
0017
00116
Package 1/17HostnameOS / ArchINSTALLBUILDCHECKBUILD BIN
ADAPT 1.5.0  (landing page)
Mukai Wang
git_last_commit: f78af6b
git_last_commit_date: 2025-10-29 11:32:05 -0400
nebbiolo1Linux (Ubuntu 24.04.3 LTS) / x86_64  OK    OK    OK  NO, package depends on 'phyloseq' which is not available
Package 2/17HostnameOS / ArchINSTALLBUILDCHECKBUILD BIN
benchdamic 1.17.0  (landing page)
Matteo Calgaro
git_last_commit: 316209e
git_last_commit_date: 2025-10-29 11:13:17 -0400
nebbiolo1Linux (Ubuntu 24.04.3 LTS) / x86_64  OK    OK    OK  NO, package depends on 'phyloseq' which is not available
Package 3/17HostnameOS / ArchINSTALLBUILDCHECKBUILD BIN
combi 1.23.0  (landing page)
Stijn Hawinkel
git_last_commit: 29ef8d9
git_last_commit_date: 2025-10-29 10:57:46 -0400
nebbiolo1Linux (Ubuntu 24.04.3 LTS) / x86_64  OK    OK    OK  NO, package depends on 'phyloseq' which is not available
Package 4/17HostnameOS / ArchINSTALLBUILDCHECKBUILD BIN
dar 1.7.0  (landing page)
Francesc Catala-Moll
git_last_commit: 6a93481
git_last_commit_date: 2025-10-29 11:27:31 -0400
nebbiolo1Linux (Ubuntu 24.04.3 LTS) / x86_64  OK    OK    OK  NO, package depends on 'ComplexHeatmap' which is not available
Package 5/17HostnameOS / ArchINSTALLBUILDCHECKBUILD BIN
DspikeIn 1.1.0  (landing page)
Mitra Ghotbi
git_last_commit: 18fc5b8
git_last_commit_date: 2025-10-29 11:39:12 -0400
nebbiolo1Linux (Ubuntu 24.04.3 LTS) / x86_64  OK    OK    OK  NO, package depends on 'Biostrings' which is not available
Package 6/17HostnameOS / ArchINSTALLBUILDCHECKBUILD BIN
FinfoMDS 1.1.0  (landing page)
Soobin Kim
git_last_commit: a94fee5
git_last_commit_date: 2025-10-29 11:37:49 -0400
nebbiolo1Linux (Ubuntu 24.04.3 LTS) / x86_64  OK    OK    OK  NO, package depends on 'phyloseq' which is not available
Package 7/17HostnameOS / ArchINSTALLBUILDCHECKBUILD BIN
MBECS 1.15.0  (landing page)
Michael Olbrich
git_last_commit: 796859e
git_last_commit_date: 2025-10-29 11:15:19 -0400
nebbiolo1Linux (Ubuntu 24.04.3 LTS) / x86_64  OK    OK    OK  NO, package depends on 'phyloseq' which is not available
Package 8/17HostnameOS / ArchINSTALLBUILDCHECKBUILD BIN
microbiome 1.33.0  (landing page)
Leo Lahti
git_last_commit: 4c97d9e
git_last_commit_date: 2025-10-29 10:40:21 -0400
nebbiolo1Linux (Ubuntu 24.04.3 LTS) / x86_64  OK    OK    OK  NO, package depends on 'phyloseq' which is not available
Package 9/17HostnameOS / ArchINSTALLBUILDCHECKBUILD BIN
microbiomeDASim 1.25.0  (landing page)
Justin Williams
git_last_commit: 5e863d9
git_last_commit_date: 2025-10-29 10:54:08 -0400
nebbiolo1Linux (Ubuntu 24.04.3 LTS) / x86_64  OK    OK    OK  NO, package depends on 'phyloseq' which is not available
Package 10/17HostnameOS / ArchINSTALLBUILDCHECKBUILD BIN
PathoStat 1.37.0  (landing page)
Solaiappan Manimaran
git_last_commit: b2188f7
git_last_commit_date: 2025-10-29 10:34:57 -0400
nebbiolo1Linux (Ubuntu 24.04.3 LTS) / x86_64  OK    OK    OK  NO, package depends on 'phyloseq' which is not available
Package 11/17HostnameOS / ArchINSTALLBUILDCHECKBUILD BIN
RCM 1.27.0  (landing page)
Stijn Hawinkel
git_last_commit: 3b6b6a8
git_last_commit_date: 2025-10-29 10:49:27 -0400
nebbiolo1Linux (Ubuntu 24.04.3 LTS) / x86_64  OK    OK    OK  NO, package depends on 'phyloseq' which is not available
Package 12/17HostnameOS / ArchINSTALLBUILDCHECKBUILD BIN
reconsi 1.23.0  (landing page)
Stijn Hawinkel
git_last_commit: cd5ced8
git_last_commit_date: 2025-10-29 10:56:27 -0400
nebbiolo1Linux (Ubuntu 24.04.3 LTS) / x86_64  OK    OK    OK  NO, package depends on 'phyloseq' which is not available
Package 13/17HostnameOS / ArchINSTALLBUILDCHECKBUILD BIN
RPA 1.67.0  (landing page)
Leo Lahti
git_last_commit: ae57fb9
git_last_commit_date: 2025-10-29 10:03:12 -0400
nebbiolo1Linux (Ubuntu 24.04.3 LTS) / x86_64  OK    OK    OK  NO, package depends on 'affy' which is not available
Package 14/17HostnameOS / ArchINSTALLBUILDCHECKBUILD BIN
SIAMCAT 2.15.0  (landing page)
Jakob Wirbel
git_last_commit: 19b3733
git_last_commit_date: 2025-10-29 10:45:25 -0400
nebbiolo1Linux (Ubuntu 24.04.3 LTS) / x86_64  OK    OK    OK  NO, package depends on 'phyloseq' which is not available
Package 15/17HostnameOS / ArchINSTALLBUILDCHECKBUILD BIN
SimBu 1.13.0  (landing page)
Alexander Dietrich
git_last_commit: fc87678
git_last_commit_date: 2025-10-29 11:18:10 -0400
nebbiolo1Linux (Ubuntu 24.04.3 LTS) / x86_64  OK    OK    OK  NO, package depends on 'phyloseq' which is not available
Package 16/17HostnameOS / ArchINSTALLBUILDCHECKBUILD BIN
SPsimSeq 1.21.0  (landing page)
Joris Meys
git_last_commit: c584581
git_last_commit_date: 2025-10-29 11:00:01 -0400
nebbiolo1Linux (Ubuntu 24.04.3 LTS) / x86_64  OK    OK    OK  NO, package depends on 'SingleCellExperiment' which is not available
Package 17/17HostnameOS / ArchINSTALLBUILDCHECKBUILD BIN
zitools 1.5.0  (landing page)
Carlotta Meyring
git_last_commit: 822919b
git_last_commit_date: 2025-10-29 11:30:43 -0400
nebbiolo1Linux (Ubuntu 24.04.3 LTS) / x86_64  OK    OK    WARNINGS  NO, package depends on 'phyloseq' which is not available