Package: pipeComp Version: 1.19.0 Command: /home/biocbuild/bbs-3.22-bioc/R/bin/R CMD INSTALL pipeComp StartedAt: 2025-10-07 15:56:29 -0400 (Tue, 07 Oct 2025) EndedAt: 2025-10-07 15:57:32 -0400 (Tue, 07 Oct 2025) EllapsedTime: 62.6 seconds RetCode: 0 Status: OK