Package: pipeFrame Version: 1.25.1 Command: /home/biocbuild/bbs-3.22-bioc/R/bin/R CMD INSTALL pipeFrame StartedAt: 2025-10-13 16:01:03 -0400 (Mon, 13 Oct 2025) EndedAt: 2025-10-13 16:01:35 -0400 (Mon, 13 Oct 2025) EllapsedTime: 32.1 seconds RetCode: 0 Status: OK