Package: plotgardener Version: 1.15.1 Command: /home/biocbuild/bbs-3.22-bioc/R/bin/R CMD build --keep-empty-dirs --no-resave-data --md5 plotgardener StartedAt: 2025-10-22 19:20:23 -0400 (Wed, 22 Oct 2025) EndedAt: 2025-10-22 19:21:34 -0400 (Wed, 22 Oct 2025) EllapsedTime: 70.1 seconds RetCode: 0 Status: OK PackageFile: plotgardener_1.15.1.tar.gz PackageFileSize: 2.739 MiB