Package: plotgardener Version: 1.15.1 Command: /home/biocbuild/bbs-3.22-bioc/R/bin/R CMD INSTALL plotgardener StartedAt: 2025-10-22 15:33:45 -0400 (Wed, 22 Oct 2025) EndedAt: 2025-10-22 15:34:35 -0400 (Wed, 22 Oct 2025) EllapsedTime: 50.0 seconds RetCode: 0 Status: OK