Package: preprocessCore Version: 1.73.0 Command: /home/biocbuild/bbs-3.23-bioc/R/bin/R CMD INSTALL preprocessCore StartedAt: 2025-11-16 15:12:12 -0500 (Sun, 16 Nov 2025) EndedAt: 2025-11-16 15:12:24 -0500 (Sun, 16 Nov 2025) EllapsedTime: 11.2 seconds RetCode: 0 Status: OK