Package: preprocessCore Version: 1.71.2 Command: /home/biocbuild/bbs-3.22-bioc/R/bin/R CMD INSTALL preprocessCore StartedAt: 2025-07-11 15:09:51 -0400 (Fri, 11 Jul 2025) EndedAt: 2025-07-11 15:10:03 -0400 (Fri, 11 Jul 2025) EllapsedTime: 12.3 seconds RetCode: 0 Status: OK