Package: rnaseqcomp Version: 1.39.0 Command: /home/biocbuild/bbs-3.22-bioc/R/bin/R CMD INSTALL rnaseqcomp StartedAt: 2025-10-10 15:16:55 -0400 (Fri, 10 Oct 2025) EndedAt: 2025-10-10 15:17:14 -0400 (Fri, 10 Oct 2025) EllapsedTime: 19.5 seconds RetCode: 0 Status: OK