Package: sampleClassifier Version: 1.35.0 Command: /home/biocbuild/bbs-3.23-bioc/R/bin/R CMD INSTALL sampleClassifier StartedAt: 2025-11-02 15:36:20 -0500 (Sun, 02 Nov 2025) EndedAt: 2025-11-02 15:36:36 -0500 (Sun, 02 Nov 2025) EllapsedTime: 15.5 seconds RetCode: 0 Status: OK