Package: scBubbletree Version: 1.13.0 Command: /home/biocbuild/bbs-3.23-bioc/R/bin/R CMD build --keep-empty-dirs --no-resave-data scBubbletree StartedAt: 2025-11-02 19:43:39 -0500 (Sun, 02 Nov 2025) EndedAt: 2025-11-02 19:48:53 -0500 (Sun, 02 Nov 2025) EllapsedTime: 314.3 seconds RetCode: 0 Status: OK PackageFile: scBubbletree_1.13.0.tar.gz PackageFileSize: 4.644 MiB