Package: scBubbletree Version: 1.13.0 Command: /home/biocbuild/bbs-3.23-bioc/R/bin/R CMD INSTALL scBubbletree StartedAt: 2025-11-02 15:17:36 -0500 (Sun, 02 Nov 2025) EndedAt: 2025-11-02 15:17:54 -0500 (Sun, 02 Nov 2025) EllapsedTime: 18.5 seconds RetCode: 0 Status: OK