Package: scDataviz Version: 1.19.1 Command: rm -rf scDataviz.buildbin-libdir && mkdir scDataviz.buildbin-libdir && /Users/biocbuild/BBS/utils/build-universal.sh scDataviz_1.19.1.tar.gz /Library/Frameworks/R.framework/Resources/bin/R scDataviz.buildbin-libdir StartedAt: 2025-10-23 23:25:38 -0400 (Thu, 23 Oct 2025) EndedAt: 2025-10-23 23:25:56 -0400 (Thu, 23 Oct 2025) EllapsedTime: 18.4 seconds RetCode: 0 Status: OK PackageFile: scDataviz_1.19.1.tgz PackageFileSize: 5.346 MiB