Package: scDataviz Version: 1.19.1 Command: /Library/Frameworks/R.framework/Resources/bin/R CMD build --keep-empty-dirs --no-resave-data scDataviz StartedAt: 2025-10-23 17:41:31 -0400 (Thu, 23 Oct 2025) EndedAt: 2025-10-23 17:43:28 -0400 (Thu, 23 Oct 2025) EllapsedTime: 117.3 seconds RetCode: 0 Status: OK PackageFile: scDataviz_1.19.1.tar.gz PackageFileSize: 8.259 MiB