Package: scDataviz Version: 1.19.1 Command: /Library/Frameworks/R.framework/Resources/bin/R CMD INSTALL scDataviz StartedAt: 2025-10-24 15:21:25 -0400 (Fri, 24 Oct 2025) EndedAt: 2025-10-24 15:21:40 -0400 (Fri, 24 Oct 2025) EllapsedTime: 15.1 seconds RetCode: 0 Status: OK