Package: scDataviz Version: 1.21.0 Command: rm -rf scDataviz.buildbin-libdir && mkdir scDataviz.buildbin-libdir && /Users/biocbuild/BBS/utils/build-universal.sh scDataviz_1.21.0.tar.gz /Library/Frameworks/R.framework/Resources/bin/R scDataviz.buildbin-libdir StartedAt: 2025-11-17 07:15:52 -0500 (Mon, 17 Nov 2025) EndedAt: 2025-11-17 07:16:47 -0500 (Mon, 17 Nov 2025) EllapsedTime: 54.8 seconds RetCode: 0 Status: OK PackageFile: scDataviz_1.21.0.tgz PackageFileSize: 5.306 MiB