Package: scDataviz Version: 1.21.0 Command: /Library/Frameworks/R.framework/Resources/bin/R CMD build --keep-empty-dirs --no-resave-data scDataviz StartedAt: 2025-11-17 18:47:47 -0500 (Mon, 17 Nov 2025) EndedAt: 2025-11-17 18:52:27 -0500 (Mon, 17 Nov 2025) EllapsedTime: 280.4 seconds RetCode: 0 Status: OK PackageFile: scDataviz_1.21.0.tar.gz PackageFileSize: 8.219 MiB