Package: scDataviz Version: 1.21.0 Command: /Library/Frameworks/R.framework/Resources/bin/R CMD INSTALL scDataviz StartedAt: 2025-11-16 20:33:58 -0500 (Sun, 16 Nov 2025) EndedAt: 2025-11-16 20:34:46 -0500 (Sun, 16 Nov 2025) EllapsedTime: 47.6 seconds RetCode: 0 Status: OK