Package: scDiagnostics Version: 1.3.0 Command: /home/biocbuild/bbs-3.22-bioc/R/bin/R CMD INSTALL scDiagnostics StartedAt: 2025-10-21 15:21:40 -0400 (Tue, 21 Oct 2025) EndedAt: 2025-10-21 15:22:06 -0400 (Tue, 21 Oct 2025) EllapsedTime: 26.0 seconds RetCode: 0 Status: OK