Package: scHOT Version: 1.21.0 Command: /home/biocbuild/bbs-3.22-bioc/R/bin/R CMD INSTALL scHOT StartedAt: 2025-10-15 15:23:27 -0400 (Wed, 15 Oct 2025) EndedAt: 2025-10-15 15:23:55 -0400 (Wed, 15 Oct 2025) EllapsedTime: 27.9 seconds RetCode: 0 Status: OK