Package: scHiCcompare Version: 1.1.0 Command: /home/biocbuild/bbs-3.22-bioc/R/bin/R CMD INSTALL scHiCcompare StartedAt: 2025-10-07 15:30:58 -0400 (Tue, 07 Oct 2025) EndedAt: 2025-10-07 15:31:26 -0400 (Tue, 07 Oct 2025) EllapsedTime: 28.3 seconds RetCode: 0 Status: OK