Package: scMerge Version: 1.25.0 Command: /home/biocbuild/bbs-3.22-bioc/R/bin/R CMD INSTALL scMerge StartedAt: 2025-10-08 16:14:07 -0400 (Wed, 08 Oct 2025) EndedAt: 2025-10-08 16:15:08 -0400 (Wed, 08 Oct 2025) EllapsedTime: 61.2 seconds RetCode: 0 Status: OK