Package: scPipe Version: 2.9.0 Command: /home/biocbuild/bbs-3.22-bioc/R/bin/R CMD build --keep-empty-dirs --no-resave-data --md5 scPipe StartedAt: 2025-10-10 20:05:42 -0400 (Fri, 10 Oct 2025) EndedAt: 2025-10-10 20:10:18 -0400 (Fri, 10 Oct 2025) EllapsedTime: 276.2 seconds RetCode: 0 Status: OK PackageFile: scPipe_2.9.0.tar.gz PackageFileSize: 12.65 MiB