Package: scPipe Version: 2.9.0 Command: /home/biocbuild/bbs-3.22-bioc/R/bin/R CMD INSTALL scPipe StartedAt: 2025-10-10 15:45:45 -0400 (Fri, 10 Oct 2025) EndedAt: 2025-10-10 15:47:58 -0400 (Fri, 10 Oct 2025) EllapsedTime: 133.2 seconds RetCode: 0 Status: OK