Package: scReClassify Version: 1.17.0 Command: /Library/Frameworks/R.framework/Resources/bin/R CMD build --keep-empty-dirs --no-resave-data scReClassify StartedAt: 2025-11-16 17:36:48 -0500 (Sun, 16 Nov 2025) EndedAt: 2025-11-16 17:37:52 -0500 (Sun, 16 Nov 2025) EllapsedTime: 63.7 seconds RetCode: 0 Status: OK PackageFile: scReClassify_1.17.0.tar.gz PackageFileSize: 2.469 MiB