Package: scReClassify Version: 1.17.0 Command: /Library/Frameworks/R.framework/Resources/bin/R CMD INSTALL scReClassify StartedAt: 2025-11-16 15:32:07 -0500 (Sun, 16 Nov 2025) EndedAt: 2025-11-16 15:32:16 -0500 (Sun, 16 Nov 2025) EllapsedTime: 8.2 seconds RetCode: 0 Status: OK