Package: schex Version: 1.23.0 Command: /home/biocbuild/bbs-3.22-bioc/R/bin/R CMD INSTALL schex StartedAt: 2025-10-10 15:35:32 -0400 (Fri, 10 Oct 2025) EndedAt: 2025-10-10 15:35:59 -0400 (Fri, 10 Oct 2025) EllapsedTime: 27.0 seconds RetCode: 0 Status: OK